BEGIN:VCALENDAR
VERSION:2.0
PRODID:-//Tukios.com/
BEGIN:VEVENT
UID:c83b39cf-dba6-47e8-a8e7-75e44bbcc651@www.mttaylorfunerals.com
DTSTAMP:20260421T205729Z
DTSTART:20260424T160000Z
DTEND:20260424T163000Z
SUMMARY:Rosary
DESCRIPTION:
URL:https://www.mttaylorfunerals.com/obituaries/filemon-vigil
LOCATION: 402 East High Street  Grants NM 87020
GEO:35.1492984;-107.8442302
END:VEVENT
END:VCALENDAR