BEGIN:VCALENDAR
VERSION:2.0
PRODID:-//Tukios.com/
BEGIN:VEVENT
UID:bf384bcd-053f-484c-b62b-cf3c0d7114d1@www.mttaylorfunerals.com
DTSTAMP:20260421T210110Z
DTSTART:20260424T163000Z
DTEND:20260424T173000Z
SUMMARY:Mass
DESCRIPTION:
URL:https://www.mttaylorfunerals.com/obituaries/filemon-vigil
LOCATION: 402 East High Street  Grants NM 87020
GEO:35.1492984;-107.8442302
END:VEVENT
END:VCALENDAR