BEGIN:VCALENDAR
VERSION:2.0
PRODID:-//Tukios.com/
BEGIN:VEVENT
UID:af8a37a2-a768-4cdc-8ba8-b54bf8558c99@www.mttaylorfunerals.com
DTSTAMP:20260421T205641Z
DTSTART:20260424T180000Z
DTEND:20260424T190000Z
SUMMARY:Burial
DESCRIPTION:
URL:https://www.mttaylorfunerals.com/obituaries/filemon-vigil
LOCATION:  Cemetery Road  Grants NM 87020
GEO:35.1096124;-107.8846056
END:VEVENT
END:VCALENDAR