BEGIN:VCALENDAR
VERSION:2.0
PRODID:-//Tukios.com/
BEGIN:VEVENT
UID:668c6864-2eb2-4d8c-bded-0922d302252a@www.mttaylorfunerals.com
DTSTAMP:20260421T205301Z
DTSTART:20260423T200000Z
DTEND:20260423T220000Z
SUMMARY:Viewing
DESCRIPTION:
URL:https://www.mttaylorfunerals.com/obituaries/filemon-vigil
LOCATION: 120 3rd St  Grants NM 87020
GEO:35.1519846;-107.850789
END:VEVENT
END:VCALENDAR